BEGIN:VCALENDAR
VERSION:2.0
PRODID:-//Chicago Kalakshetra - ECPv5.5.0.1//NONSGML v1.0//EN
CALSCALE:GREGORIAN
METHOD:PUBLISH
X-WR-CALNAME:Chicago Kalakshetra
X-ORIGINAL-URL:https://chicagokalakshetra.com
X-WR-CALDESC:Events for Chicago Kalakshetra
BEGIN:VTIMEZONE
TZID:UTC
BEGIN:STANDARD
TZOFFSETFROM:+0000
TZOFFSETTO:+0000
TZNAME:UTC
DTSTART:20260101T000000
END:STANDARD
END:VTIMEZONE
BEGIN:VEVENT
DTSTART;TZID=UTC:20260411T140000
DTEND;TZID=UTC:20260411T200000
DTSTAMP:20260420T081008
CREATED:20250930T223534Z
LAST-MODIFIED:20250930T223534Z
UID:2169-1775916000-1775937600@chicagokalakshetra.com
SUMMARY:Vishu 2026
DESCRIPTION:
URL:https://chicagokalakshetra.com/event/vishu-2026/
END:VEVENT
BEGIN:VEVENT
DTSTART;TZID=UTC:20260424T180000
DTEND;TZID=UTC:20260425T210000
DTSTAMP:20260420T081008
CREATED:20250930T223350Z
LAST-MODIFIED:20260207T192832Z
UID:2167-1777053600-1777150800@chicagokalakshetra.com
SUMMARY:Kalolsavam 2026
DESCRIPTION:
URL:https://chicagokalakshetra.com/event/kalamela-2026/
LOCATION:St Thomas Syro Malabar Church\, 5000 St Charles Rd\, Bellwood\, IL
END:VEVENT
END:VCALENDAR