BEGIN:VCALENDAR
VERSION:2.0
PRODID:-//Chicago Kalakshetra - ECPv5.5.0.1//NONSGML v1.0//EN
CALSCALE:GREGORIAN
METHOD:PUBLISH
X-WR-CALNAME:Chicago Kalakshetra
X-ORIGINAL-URL:https://chicagokalakshetra.com
X-WR-CALDESC:Events for Chicago Kalakshetra
BEGIN:VTIMEZONE
TZID:UTC
BEGIN:STANDARD
TZOFFSETFROM:+0000
TZOFFSETTO:+0000
TZNAME:UTC
DTSTART:20250101T000000
END:STANDARD
END:VTIMEZONE
BEGIN:VEVENT
DTSTART;TZID=UTC:20250803T110000
DTEND;TZID=UTC:20250803T180000
DTSTAMP:20260422T132446
CREATED:20250601T101821Z
LAST-MODIFIED:20250718T011903Z
UID:2125-1754218800-1754244000@chicagokalakshetra.com
SUMMARY:Summer Fest 2025
DESCRIPTION:
URL:https://chicagokalakshetra.com/event/summer-fest-2025/
LOCATION:Darien Community Park – South Pavilion
CATEGORIES:Upcoming Event
END:VEVENT
END:VCALENDAR