BEGIN:VCALENDAR
VERSION:2.0
PRODID:-//Chicago Kalakshetra - ECPv5.5.0.1//NONSGML v1.0//EN
CALSCALE:GREGORIAN
METHOD:PUBLISH
X-WR-CALNAME:Chicago Kalakshetra
X-ORIGINAL-URL:https://chicagokalakshetra.com
X-WR-CALDESC:Events for Chicago Kalakshetra
BEGIN:VTIMEZONE
TZID:UTC
BEGIN:STANDARD
TZOFFSETFROM:+0000
TZOFFSETTO:+0000
TZNAME:UTC
DTSTART:20250101T000000
END:STANDARD
END:VTIMEZONE
BEGIN:VEVENT
DTSTART;TZID=UTC:20250412T140000
DTEND;TZID=UTC:20250412T180000
DTSTAMP:20260422T094337
CREATED:20240127T143625Z
LAST-MODIFIED:20250405T031426Z
UID:1620-1744466400-1744480800@chicagokalakshetra.com
SUMMARY:Vishu 2025
DESCRIPTION:
URL:https://chicagokalakshetra.com/event/vishu-2025/
LOCATION:Sama Rathi Auditorium\, Hindu temple of Greater Chicago\, Lemont\, 10915 Lemont Rd\, Lemont\, IL\, 60439
CATEGORIES:Upcoming Event
END:VEVENT
END:VCALENDAR